BEGIN:VCALENDAR
VERSION:2.0
PRODID:-//Squarespace Inc/Squarespace 6//v6//EN
BEGIN:VEVENT
UID:57397b7f07eaa0bc960d815d@squarespace.com
DTSTAMP:20160517T054853Z
DTSTART:20160621T010000Z
DTEND:20160621T020000Z
SUMMARY:Core and Newly Diagnosed/Foundation Module Training
GEO:-31.946784;115.828068
LOCATION:Diabetes WA\, 322 Hay Street\, Subiaco\, WA\, 6008\, Australia
END:VEVENT
END:VCALENDAR
