BEGIN:VCALENDAR
VERSION:2.0
PRODID:-//Squarespace Inc/Squarespace 6//v6//EN
BEGIN:VEVENT
UID:573aaffca3360c8a5ac7af8e@squarespace.com
DTSTAMP:20160517T054942Z
DTSTART:20160622T010000Z
DTEND:20160622T020000Z
SUMMARY:Core and Newly Diagnosed/Foundation Module Training
GEO:-31.946784;115.828068
LOCATION:Diabetes WA\, 322 Hay Street\, Subiaco\, WA\, 6008\, Australia
END:VEVENT
END:VCALENDAR
