BEGIN:VCALENDAR
VERSION:2.0
PRODID:-//Squarespace Inc/Squarespace 6//v6//EN
BEGIN:VEVENT
UID:57c92c05197aeaed3f599df6@squarespace.com
DTSTAMP:20160902T074825Z
DTSTART:20160921T010000Z
DTEND:20160921T090000Z
SUMMARY:DESMOND Core Training
GEO:-31.946784;115.828066
LOCATION:Diabetes WA\, Level 3\, 322 Hay Street\, Subiaco\, Australia
END:VEVENT
END:VCALENDAR
