BEGIN:VCALENDAR
VERSION:2.0
PRODID:-//Squarespace Inc/Squarespace 6//v6//EN
BEGIN:VEVENT
UID:58461ad62994ca8815345fe2@squarespace.com
DTSTAMP:20161206T021215Z
DTSTART:20170222T010000Z
DTEND:20170222T090000Z
SUMMARY:DESMOND study day
GEO:-31.946784;115.828066
LOCATION:Diabetes WA\, Level 3\, 322 Hay Street\, Subiaco\, WA\, Australia
END:VEVENT
END:VCALENDAR
