BEGIN:VCALENDAR
VERSION:2.0
PRODID:-//Squarespace Inc/Squarespace 6//v6//EN
BEGIN:VEVENT
UID:58d3609c3a0411fb1858533d@squarespace.com
DTSTAMP:20170412T021729Z
DTSTART:20170620T003000Z
DTEND:20170621T090000Z
SUMMARY:Core and Newly Diagnosed/Foundation Module Training
END:VEVENT
END:VCALENDAR
