BEGIN:VCALENDAR
VERSION:2.0
PRODID:-//Squarespace Inc/Squarespace 6//v6//EN
BEGIN:VEVENT
UID:5d5fa6f154f804000180a564@squarespace.com
DTSTAMP:20190823T084834Z
DTSTART:20191029T010000Z
DTEND:20191030T000000Z
SUMMARY:DESMOND Core and ND/F Training
END:VEVENT
END:VCALENDAR
