BEGIN:VCALENDAR
VERSION:2.0
PRODID:-//Squarespace Inc/Squarespace 6//v6//EN
BEGIN:VEVENT
UID:58edb11a37c581980554dc6c@squarespace.com
DTSTAMP:20170412T044726Z
DTSTART:20171031T010000Z
DTEND:20171031T080000Z
SUMMARY:DESMOND: Frankston\, Victoria
GEO:-38.158;145.135
LOCATION:Frankston\, Victoria\, Australia
END:VEVENT
END:VCALENDAR
