BEGIN:VCALENDAR
VERSION:2.0
PRODID:-//Squarespace Inc/Squarespace 6//v6//EN
BEGIN:VEVENT
UID:59ba0221cd39c316888d0f0d@squarespace.com
DTSTAMP:20170914T041704Z
DTSTART:20171025T010000Z
DTEND:20171025T080000Z
SUMMARY:DESMOND: Hobart\, Tasmania
END:VEVENT
END:VCALENDAR
