BEGIN:VCALENDAR
VERSION:2.0
PRODID:-//Squarespace Inc/Squarespace 6//v6//EN
BEGIN:VEVENT
UID:59b9ff1ee9bfdf9e75705cef@squarespace.com
DTSTAMP:20170914T041343Z
DTSTART:20171005T010000Z
DTEND:20171005T080000Z
SUMMARY:DESMOND: Launceston\, Tasmania
END:VEVENT
END:VCALENDAR
