BEGIN:VCALENDAR
VERSION:2.0
PRODID:-//Squarespace Inc/Squarespace 6//v6//EN
BEGIN:VEVENT
UID:58eda64737c5819805520b5b@squarespace.com
DTSTAMP:20170412T040114Z
DTSTART:20171017T010000Z
DTEND:20171017T080000Z
SUMMARY:DESMOND: Mornington\, Victoria
GEO:-38.228;145.062
LOCATION:Mornington\, Victoria\, Australia
END:VEVENT
END:VCALENDAR
