BEGIN:VCALENDAR
VERSION:2.0
PRODID:-//Squarespace Inc/Squarespace 6//v6//EN
BEGIN:VEVENT
UID:58edb505b8a79b8da907439e@squarespace.com
DTSTAMP:20170412T050442Z
DTSTART:20171010T050000Z
DTEND:20171010T083000Z
SUMMARY:DESMOND: Rosebud\, Victoria
GEO:-38.356;144.918
LOCATION:Rosebud\, Victoria\, Australia
END:VEVENT
END:VCALENDAR
