BEGIN:VCALENDAR
VERSION:2.0
PRODID:-//Squarespace Inc/Squarespace 6//v6//EN
BEGIN:VEVENT
UID:59ba03f946c3c47b11097cab@squarespace.com
DTSTAMP:20170914T042336Z
DTSTART:20171123T010000Z
DTEND:20171123T080000Z
SUMMARY:DESMOND: Bothwell\, Tasmania
END:VEVENT
END:VCALENDAR
