BEGIN:VCALENDAR
VERSION:2.0
PRODID:-//Squarespace Inc/Squarespace 6//v6//EN
BEGIN:VEVENT
UID:59ba03a43c7591e5bd4ea7ed@squarespace.com
DTSTAMP:20170914T042200Z
DTSTART:20171121T010000Z
DTEND:20171121T080000Z
SUMMARY:DESMOND: Burnie\, Tasmania
END:VEVENT
END:VCALENDAR
