BEGIN:VCALENDAR
VERSION:2.0
PRODID:-//Squarespace Inc/Squarespace 6//v6//EN
BEGIN:VEVENT
UID:59ba046b2278e7dcc1bc0d0c@squarespace.com
DTSTAMP:20170914T042613Z
DTSTART:20171127T010000Z
DTEND:20171127T080000Z
SUMMARY:DESMOND: Devonport\, Tasmania
END:VEVENT
END:VCALENDAR
