BEGIN:VCALENDAR
VERSION:2.0
PRODID:-//Squarespace Inc/Squarespace 6//v6//EN
BEGIN:VEVENT
UID:58eda508b8a79b8da90309d5@squarespace.com
DTSTAMP:20170412T035733Z
DTSTART:20171122T010000Z
DTEND:20171122T080000Z
SUMMARY:DESMOND: Hastings\, Victoria
GEO:-38.306;145.189
LOCATION:Hastings\, Victoria\, Australia
END:VEVENT
END:VCALENDAR
