BEGIN:VCALENDAR
VERSION:2.0
PRODID:-//Squarespace Inc/Squarespace 6//v6//EN
BEGIN:VEVENT
UID:59c9f81b4c0dbf45c95ec734@squarespace.com
DTSTAMP:20170926T065125Z
DTSTART:20171115T013000Z
DTEND:20171115T083000Z
SUMMARY:DESMOND: Hilton South Australia
END:VEVENT
END:VCALENDAR
