BEGIN:VCALENDAR
VERSION:2.0
PRODID:-//Squarespace Inc/Squarespace 6//v6//EN
BEGIN:VEVENT
UID:59ba02d32d83c31431f15352@squarespace.com
DTSTAMP:20170914T041857Z
DTSTART:20171101T010000Z
DTEND:20171101T080000Z
SUMMARY:DESMOND: Hobart\, Tasmania
END:VEVENT
END:VCALENDAR
