BEGIN:VCALENDAR
VERSION:2.0
PRODID:-//Squarespace Inc/Squarespace 6//v6//EN
BEGIN:VEVENT
UID:58edb574ebbd1a718d0dbd94@squarespace.com
DTSTAMP:20170412T050606Z
DTSTART:20171130T050000Z
DTEND:20171130T083000Z
SUMMARY:DESMOND: Rosebud\, Victoria
GEO:-38.356;144.918
LOCATION:Rosebud\, Victoria\, Australia
END:VEVENT
END:VCALENDAR
