BEGIN:VCALENDAR
VERSION:2.0
PRODID:-//Squarespace Inc/Squarespace 6//v6//EN
BEGIN:VEVENT
UID:59ba0590bd2831ab6c89bc8f@squarespace.com
DTSTAMP:20170914T043011Z
DTSTART:20171211T010000Z
DTEND:20171211T080000Z
SUMMARY:DESMOND: Hobart\, Tasmania
END:VEVENT
END:VCALENDAR
