BEGIN:VCALENDAR
VERSION:2.0
PRODID:-//Squarespace Inc/Squarespace 6//v6//EN
BEGIN:VEVENT
UID:59ba04f971c9a0510b495d85@squarespace.com
DTSTAMP:20170914T042816Z
DTSTART:20171207T010000Z
DTEND:20171207T080000Z
SUMMARY:DESMOND: Launceston\, Tasmania
END:VEVENT
END:VCALENDAR
