BEGIN:VCALENDAR
VERSION:2.0
PRODID:-//Squarespace Inc/Squarespace 6//v6//EN
BEGIN:VEVENT
UID:58edb16ce4fcb58489d5098e@squarespace.com
DTSTAMP:20170412T045306Z
DTSTART:20170427T050000Z
DTEND:20170427T083000Z
SUMMARY:DESMOND: Rosebud\, Victoria
GEO:-38.158;145.135
LOCATION:Frankston\, Victoria\, Australia
END:VEVENT
END:VCALENDAR
