BEGIN:VCALENDAR
VERSION:2.0
PRODID:-//Squarespace Inc/Squarespace 6//v6//EN
BEGIN:VEVENT
UID:58edbaf4c534a5e94d7795a9@squarespace.com
DTSTAMP:20170412T052925Z
DTSTART:20170506T010000Z
DTEND:20170506T083000Z
SUMMARY:DESMOND: Belmont\, Western Australia
GEO:-31.945;115.927
LOCATION:Belmont\, Western Australia\, Australia
END:VEVENT
END:VCALENDAR
