BEGIN:VCALENDAR
VERSION:2.0
PRODID:-//Squarespace Inc/Squarespace 6//v6//EN
BEGIN:VEVENT
UID:58edbb42b3db2b4f27df8eca@squarespace.com
DTSTAMP:20170412T053318Z
DTSTART:20170512T010000Z
DTEND:20170512T083000Z
SUMMARY:DESMOND: Canning Vale\, Western Australia
GEO:-32.08;115.915
LOCATION:Canning Vale\, Western Australia\, Australia
END:VEVENT
END:VCALENDAR
