BEGIN:VCALENDAR
VERSION:2.0
PRODID:-//Squarespace Inc/Squarespace 6//v6//EN
BEGIN:VEVENT
UID:58edbb92d482e95365c3b496@squarespace.com
DTSTAMP:20170412T053152Z
DTSTART:20170517T010000Z
DTEND:20170517T083000Z
SUMMARY:DESMOND: Caversham\, Western Australia
GEO:-31.875;115.975
LOCATION:Caversham\, Western Australia\, Australia
END:VEVENT
END:VCALENDAR
