BEGIN:VCALENDAR
VERSION:2.0
PRODID:-//Squarespace Inc/Squarespace 6//v6//EN
BEGIN:VEVENT
UID:58edb02520099eb7fba8393f@squarespace.com
DTSTAMP:20170412T044331Z
DTSTART:20170502T010000Z
DTEND:20170502T080000Z
SUMMARY:DESMOND: Frankston\, Victoria
GEO:-38.158;145.135
LOCATION:Frankston\, Victoria\, Australia
END:VEVENT
END:VCALENDAR
