BEGIN:VCALENDAR
VERSION:2.0
PRODID:-//Squarespace Inc/Squarespace 6//v6//EN
BEGIN:VEVENT
UID:58edb8c6d482e95365c3106b@squarespace.com
DTSTAMP:20170412T052810Z
DTSTART:20170501T010000Z
DTEND:20170501T083000Z
SUMMARY:DESMOND: Mirrabooka\, Western Australia
GEO:-31.863;115.87
LOCATION:Mirrabooka\, Western Australia\, Australia
END:VEVENT
END:VCALENDAR
