BEGIN:VCALENDAR
VERSION:2.0
PRODID:-//Squarespace Inc/Squarespace 6//v6//EN
BEGIN:VEVENT
UID:58eda5b986e6c03e56a4058a@squarespace.com
DTSTAMP:20170412T035852Z
DTSTART:20170502T010000Z
DTEND:20170502T080000Z
SUMMARY:DESMOND: Mornington\, Victoria
GEO:-38.228;145.062
LOCATION:Mornington\, Victoria\, Australia
END:VEVENT
END:VCALENDAR
