BEGIN:VCALENDAR
VERSION:2.0
PRODID:-//Squarespace Inc/Squarespace 6//v6//EN
BEGIN:VEVENT
UID:58edbbd1414fb5fa31627b8d@squarespace.com
DTSTAMP:20170412T053305Z
DTSTART:20170522T010000Z
DTEND:20170522T083000Z
SUMMARY:DESMOND: Subiaco\, Western Australia
GEO:-31.949;115.827
LOCATION:Subiaco\, Western Australia\, Australia
END:VEVENT
END:VCALENDAR
