BEGIN:VCALENDAR
VERSION:2.0
PRODID:-//Squarespace Inc/Squarespace 6//v6//EN
BEGIN:VEVENT
UID:58edb7ec1b10e3297e241a2d@squarespace.com
DTSTAMP:20170412T051745Z
DTSTART:20170628T003000Z
DTEND:20170628T043000Z
SUMMARY:DESMOND: Albany\, Western Australia
GEO:-35.02753;117.883959
LOCATION:Albany\, Western Australia\, Australia
END:VEVENT
END:VCALENDAR
