BEGIN:VCALENDAR
VERSION:2.0
PRODID:-//Squarespace Inc/Squarespace 6//v6//EN
BEGIN:VEVENT
UID:58edbdb4725e254c7c8d7069@squarespace.com
DTSTAMP:20170412T054110Z
DTSTART:20170624T010000Z
DTEND:20170624T083000Z
SUMMARY:DESMOND: Belmont\, Western Australia
GEO:-31.945;115.927
LOCATION:Belmont\, Western Australia\, Australia
END:VEVENT
END:VCALENDAR
