BEGIN:VCALENDAR
VERSION:2.0
PRODID:-//Squarespace Inc/Squarespace 6//v6//EN
BEGIN:VEVENT
UID:58edb6aee4fcb58489d6482f@squarespace.com
DTSTAMP:20170412T051207Z
DTSTART:20170607T010000Z
DTEND:20170607T080000Z
SUMMARY:DESMOND: Bindoon\, Western Australia
GEO:-31.38;116.097
LOCATION:Bindoon\, Western Australia\, Australia
END:VEVENT
END:VCALENDAR
