BEGIN:VCALENDAR
VERSION:2.0
PRODID:-//Squarespace Inc/Squarespace 6//v6//EN
BEGIN:VEVENT
UID:58edb78acd0f68da1eb40c69@squarespace.com
DTSTAMP:20170412T051515Z
DTSTART:20170612T010000Z
DTEND:20170612T080000Z
SUMMARY:DESMOND: Denmark\, Western Australia
GEO:-34.974919;117.35608
LOCATION:Denmark\, Western Australia\, Australia
END:VEVENT
END:VCALENDAR
