BEGIN:VCALENDAR
VERSION:2.0
PRODID:-//Squarespace Inc/Squarespace 6//v6//EN
BEGIN:VEVENT
UID:58edbc272994ca365205c99b@squarespace.com
DTSTAMP:20170412T053531Z
DTSTART:20170601T010000Z
DTEND:20170601T083000Z
SUMMARY:DESMOND: Forrestfield\, Western Australia
GEO:-31.98;115.993611
LOCATION:Forrestfield\, Western Australia\, Australia
END:VEVENT
END:VCALENDAR
