BEGIN:VCALENDAR
VERSION:2.0
PRODID:-//Squarespace Inc/Squarespace 6//v6//EN
BEGIN:VEVENT
UID:58edb07d20099eb7fba84de7@squarespace.com
DTSTAMP:20170412T044441Z
DTSTART:20170627T010000Z
DTEND:20170627T080000Z
SUMMARY:DESMOND: Frankston\, Victoria
GEO:-38.158;145.135
LOCATION:Frankston\, Victoria\, Australia
END:VEVENT
END:VCALENDAR
