BEGIN:VCALENDAR
VERSION:2.0
PRODID:-//Squarespace Inc/Squarespace 6//v6//EN
BEGIN:VEVENT
UID:58ec4a673a0411e543a3d331@squarespace.com
DTSTAMP:20170412T035630Z
DTSTART:20170614T010000Z
DTEND:20170614T080000Z
SUMMARY:DESMOND: Hastings\, Victoria
GEO:-38.306;145.189
LOCATION:Hastings\, Victoria\, Australia
END:VEVENT
END:VCALENDAR
