BEGIN:VCALENDAR
VERSION:2.0
PRODID:-//Squarespace Inc/Squarespace 6//v6//EN
BEGIN:VEVENT
UID:58edbcf220099eb7fbab3678@squarespace.com
DTSTAMP:20170412T053743Z
DTSTART:20170613T010000Z
DTEND:20170613T083000Z
SUMMARY:DESMOND: Joondalup\, Western Australia
GEO:-31.745;115.766111
LOCATION:Joondalup\, Western Australia\, Australia
END:VEVENT
END:VCALENDAR
