BEGIN:VCALENDAR
VERSION:2.0
PRODID:-//Squarespace Inc/Squarespace 6//v6//EN
BEGIN:VEVENT
UID:58edbd71f5e2318bb21ade18@squarespace.com
DTSTAMP:20170412T053953Z
DTSTART:20170619T010000Z
DTEND:20170619T083000Z
SUMMARY:DESMOND: Melville\, Western Australia
GEO:-32.041;115.801
LOCATION:Melville\, Western Australia\, Australia
END:VEVENT
END:VCALENDAR
