BEGIN:VCALENDAR
VERSION:2.0
PRODID:-//Squarespace Inc/Squarespace 6//v6//EN
BEGIN:VEVENT
UID:58edbe2cf5e2318bb21b0664@squarespace.com
DTSTAMP:20170412T054310Z
DTSTART:20170628T010000Z
DTEND:20170628T083000Z
SUMMARY:DESMOND: Mirrabooka\, Western Australia
GEO:-31.863;115.87
LOCATION:Mirrabooka\, Western Australia\, Australia
END:VEVENT
END:VCALENDAR
