BEGIN:VCALENDAR
VERSION:2.0
PRODID:-//Squarespace Inc/Squarespace 6//v6//EN
BEGIN:VEVENT
UID:58edb733ebbd1a718d0e24d9@squarespace.com
DTSTAMP:20170412T051328Z
DTSTART:20170630T010000Z
DTEND:20170630T080000Z
SUMMARY:DESMOND: Northam\, Western Australia
GEO:-31.65253;116.665484
LOCATION:Northam\, Western Australia\, Australia
END:VEVENT
END:VCALENDAR
