BEGIN:VCALENDAR
VERSION:2.0
PRODID:-//Squarespace Inc/Squarespace 6//v6//EN
BEGIN:VEVENT
UID:58edbd30b3db2b4f27dfff3d@squarespace.com
DTSTAMP:20170412T053848Z
DTSTART:20170615T010000Z
DTEND:20170615T083000Z
SUMMARY:DESMOND: Rivervale\, Western Australia
GEO:-31.961;115.917
LOCATION:Rivervale\, Western Australia\, Australia
END:VEVENT
END:VCALENDAR
