BEGIN:VCALENDAR
VERSION:2.0
PRODID:-//Squarespace Inc/Squarespace 6//v6//EN
BEGIN:VEVENT
UID:58edb226d2b8576a0a709c7e@squarespace.com
DTSTAMP:20170412T045228Z
DTSTART:20170615T050000Z
DTEND:20170615T083000Z
SUMMARY:DESMOND: Rosebud\, Victoria
GEO:-38.158;145.135
LOCATION:Frankston\, Victoria\, Australia
END:VEVENT
END:VCALENDAR
