BEGIN:VCALENDAR
VERSION:2.0
PRODID:-//Squarespace Inc/Squarespace 6//v6//EN
BEGIN:VEVENT
UID:58edbcad5016e127f1d53fe9@squarespace.com
DTSTAMP:20170412T053641Z
DTSTART:20170610T010000Z
DTEND:20170610T083000Z
SUMMARY:DESMOND: Subiaco\, Western Australia
GEO:-31.949;115.827
LOCATION:Subiaco\, Western Australia\, Australia
END:VEVENT
END:VCALENDAR
