BEGIN:VCALENDAR
VERSION:2.0
PRODID:-//Squarespace Inc/Squarespace 6//v6//EN
BEGIN:VEVENT
UID:5976fd41e58c62b583bffd34@squarespace.com
DTSTAMP:20170725T081852Z
DTSTART:20170814T013000Z
DTEND:20170815T083000Z
SUMMARY:DESMOND: Clarinda\, Victoria
GEO:-37.941;145.103
LOCATION:Clarinda\, Victoria\, Australia
END:VEVENT
END:VCALENDAR
