BEGIN:VCALENDAR
VERSION:2.0
PRODID:-//Squarespace Inc/Squarespace 6//v6//EN
BEGIN:VEVENT
UID:58eda607e3df28b8a065a6c0@squarespace.com
DTSTAMP:20170412T035956Z
DTSTART:20170704T010000Z
DTEND:20170704T080000Z
SUMMARY:DESMOND: Mornington\, Victoria
GEO:-38.228;145.062
LOCATION:Mornington\, Victoria\, Australia
END:VEVENT
END:VCALENDAR
