BEGIN:VCALENDAR
VERSION:2.0
PRODID:-//Squarespace Inc/Squarespace 6//v6//EN
BEGIN:VEVENT
UID:5976ff7cbebafbc2147b7a2b@squarespace.com
DTSTAMP:20170725T082246Z
DTSTART:20171017T013000Z
DTEND:20171019T023000Z
SUMMARY:DESMOND: Parkdale\, Victoria
GEO:-37.991;145.08
LOCATION:Parkdale\, Victoria\, Australia
END:VEVENT
END:VCALENDAR
