BEGIN:VCALENDAR
VERSION:2.0
PRODID:-//Squarespace Inc/Squarespace 6//v6//EN
BEGIN:VEVENT
UID:58eda334c534a5e94d71927f@squarespace.com
DTSTAMP:20170412T035703Z
DTSTART:20170803T010000Z
DTEND:20170803T080000Z
SUMMARY:DESMOND: Hastings\, Victoria
GEO:-38.306;145.189
LOCATION:Hastings\, Victoria\, Australia
END:VEVENT
END:VCALENDAR
