BEGIN:VCALENDAR
VERSION:2.0
PRODID:-//Squarespace Inc/Squarespace 6//v6//EN
BEGIN:VEVENT
UID:58edb2babebafb4f312a262c@squarespace.com
DTSTAMP:20170412T050251Z
DTSTART:20170810T050000Z
DTEND:20170810T083000Z
SUMMARY:DESMOND: Rosebud\, Victoria
GEO:-38.356;144.918
LOCATION:Rosebud\, Victoria\, Australia
END:VEVENT
END:VCALENDAR
