BEGIN:VCALENDAR
VERSION:2.0
PRODID:-//Squarespace Inc/Squarespace 6//v6//EN
BEGIN:VEVENT
UID:59ba1b3729f187bdd6c14b4c@squarespace.com
DTSTAMP:20170914T060241Z
DTSTART:20170919T010000Z
DTEND:20170919T080000Z
SUMMARY:DESMOND: Burnie\, Tasmania
END:VEVENT
END:VCALENDAR
