BEGIN:VCALENDAR
VERSION:2.0
PRODID:-//Squarespace Inc/Squarespace 6//v6//EN
BEGIN:VEVENT
UID:5976fef4f14aa119d919d0a4@squarespace.com
DTSTAMP:20170725T082100Z
DTSTART:20170918T013000Z
DTEND:20170919T022959Z
SUMMARY:DESMOND: Chelsea\, Victoria
GEO:-38.051111;145.121944
LOCATION:Chelsea\, victoria\, Australia
END:VEVENT
END:VCALENDAR
