BEGIN:VCALENDAR
VERSION:2.0
PRODID:-//Squarespace Inc/Squarespace 6//v6//EN
BEGIN:VEVENT
UID:59ba1b8c197aea401325c028@squarespace.com
DTSTAMP:20170914T060419Z
DTSTART:20170911T010000Z
DTEND:20170911T080000Z
SUMMARY:DESMOND: Devonport\, Tasmania
END:VEVENT
END:VCALENDAR
